Workbook

Sheet ORDER
B1: ORDER FORM - EVOCORE
B3: DEALER : | AH3: DATE OF SHIPMENT OF THE ORDER :
B5: TRAILER SOLD TO : | AH5: IN INVENTORY | AQ5: FINANCED:
B7: MODEL : | AH7: ADDITIONAL HEIGHT* :
AH8: * Additional height of 24" only available on 7' wide or smaller
B10: SERIES: | AO10: COLOR:
B12: ZONE: | X12: Box top height: | AK12: inches
B14: AXLES*: | AV14: F: | BA14: R:
B17: * by default, the axles are with blades
B18: SLIDE DOOR : | X18: REAR DOOR :
D22: Flush lock is standard | Y22: * 2000LBS ramp door is standard
B24: POPULAR OPTIONS | X24: REF, FOR ORDER REPLACEMENT:
AR26: Qt:
AR27: Qt: | AX27: (measures and plan)
AR28: Qt: | AX28: (measures and plan)
AR29: Qt: | AX29: (measures and plan)
AR30: Qt: | AX30: (measures and plan)
P33: Qt:
B38: ADDITIONNAL OPTIONS (use space at bottom of form for more options)
C42: # Option | I42: Quantity | P42: Comments
P44: =IF(C44="","",VLOOKUP($C44,'# OPTIONS'!$A$5:$D$18565,2,FALSE))
P45: =IF(C45="","",VLOOKUP($C45,'# OPTIONS'!$A$5:$D$18565,2,FALSE))
P47: =IF(C47="","",VLOOKUP($C47,'# OPTIONS'!$A$5:$D$18565,2,FALSE))
P48: =IF(C48="","",VLOOKUP($C48,'# OPTIONS'!$A$5:$D$18565,2,FALSE))
P49: =IF(C49="","",VLOOKUP($C49,'# OPTIONS'!$A$5:$D$18565,2,FALSE))
P50: =IF(C50="","",VLOOKUP($C50,'# OPTIONS'!$A$5:$D$18565,2,FALSE))
P51: =IF(C51="","",VLOOKUP($C51,'# OPTIONS'!$A$5:$D$18565,2,FALSE))
P52: =IF(C52="","",VLOOKUP($C52,'# OPTIONS'!$A$5:$D$18565,2,FALSE))
P53: =IF(C53="","",VLOOKUP($C53,'# OPTIONS'!$A$5:$D$18565,2,FALSE))
B54: SEND ORDER TO : | R54: orders@idealtrailer.com | AI54: SIGNATURE :
P55: =IF(C55="","",VLOOKUP($C55,'# OPTIONS'!$A$5:$D$18565,2,FALSE))
B56: Space reserved for the manufacturer
B61: ADDITIONAL OPTIONS
C64: # Option | J64: Quantity | Q64: Precisions for option
Q65: =IF(D65="","",VLOOKUP($C65,'# OPTIONS'!$A$5:$D$18565,2,FALSE))
Q66: =IF(D66="","",VLOOKUP($C66,'# OPTIONS'!$A$5:$D$18565,2,FALSE))
Q67: =IF(D67="","",VLOOKUP($C67,'# OPTIONS'!$A$5:$D$18565,2,FALSE))
Q68: =IF(D68="","",VLOOKUP($C68,'# OPTIONS'!$A$5:$D$18565,2,FALSE))
Q69: =IF(D69="","",VLOOKUP($C69,'# OPTIONS'!$A$5:$D$18565,2,FALSE))
Q70: =IF(D70="","",VLOOKUP($C70,'# OPTIONS'!$A$5:$D$18565,2,FALSE))
...

Sheet # OPTIONS
A1: # OPTIONS | D1: PLANS AND MEASURES | E1: NEW
B2: OPTION PRICE LIST | C2: UNIT
B4: STRUCTURE
A5: 1 | B5: FIXED DROP FOR LOADING (BEAVERTAIL)
A6: 2 | B6: FIXED DESCENT FOR REINFORCED LOADING (BEAVERTAIL)
A7: 3 | B7: COMPLETE INNER WHEEL BOX+EXTERNAL LEAVES 1 1/2"
A8: 4 | B8: COMPLETE INNER WHEEL BOX + EXTERNAL WINGS 1 1/2" REM 7'-8'
A9: 6 | B9: SKATES WITH WELDED REAR ROLLERS (BUGGY WHEEL)
A10: 7 | B10: ADDITIONAL 24" TO 16" OR 16" TO 12" FLOOR RAIL
A11: 8 | B11: ADDITIONAL FLOOR RAIL 24" TO 12" OR 16" TO 8"
A12: 9 | B12: FLOOR TRAVERSE TUBE FOR LOCAL REINFORCEMENT
A13: 10 | B13: GOOSENECK ATTACHMENT (G/N) EXT. WITH 1 JACK 1 SPEED
A14: 12 | B14: HIGH FLOOR CYLINDER ATTACHMENT (G/N) - AT 34" (TA3) AND 36" (TA4+)
A15: 13 | B15: RAISED FLOOR GOOSENECK ATTACHMENT (G/N) - 44"
A16: 14 | B16: HIGH FLOOR BUMPER - AT 34" FOR TA3 / 36" FOR TA4+
... A39: 63 | B39: LEAF AXLES 10 000 LB HYRDAULIC BRAKES
A40: 65 | B40: AXLE 7000 LB TA5 INSTEAD OF 6000 LB TA4
A41: 66 | B41: TORSION AXLES 8000 LB 215/75/17.5 GWG 8000 LB
A42: 67 | B42: CENTRAL AIR SUSPENSION 5200 TO 8000 LB LEAF SPRING
A43: 68 | B43: ANGLE CHANGE FOR TORSIONED AXLES (ex: 22.5UP)
A44: 69 | B44: SPREAD AXLE FOR TORSION AXLE ONLY
A45: 82 | B45: ELECTRIC BRAKE FOR 2 000 LB AXLES
A46: 83 | B46: ELECTRIC BRAKES FOR SINGLE AXLE (BATTERY INCLUDED)
A47: 84 | B47: HYDRAULIC BRAKES FREE RECOIL-SINGLE AXLE SA 3500 LB
A48: 85 | B48: HYDROLIC BRAKES FREE RECOIL TANDEM AXLE TA2 7000 LB
A49: 86 | B49: HYDRAULIC BRAKES FREE REVERSE - TANDEM TA3 10000 LB AXLES
A50: 87 | B50: HYDRAULIC BRAKES FREE RECOIL - TANDEM AXLES TA4 12000 LB
A51: 88 | B51: HYDRAULIC BRAKES FREE RECOIL - TANDEM AXLES TA5 14000 LB
A52: 89 | B52: ELECTRO-HYDRAULIC ACTIVATOR 1000 PSI
... A81: 150 | B81: ELECTRIC JACK DOUBLE AXLE TRAILER 4500 LB
A82: 151 | B82: ADAPTER FOR ELECTRIC CYLINDER
A83: 153 | B83: SWIVEL JACK (WITHOUT WHEEL, CAPACITY 5000 LB)
A84: 154 | B84: 12000 LB (4 " x 4") JAM RETRACTABLE SPRING 5 POS
A85: 157 | B85: STABILIZER JACKS (SMALL SWIVEL MODEL)
A86: 158 | B86: STABILIZER FEET IN REAR STRUCTURE (CAP. 1000 LB)
A87: 159 | B87: STABILIZER FEET IN REAR STRUCTURE (CAP. 3000 LB)
A88: 160 | B88: SCISSOR JACKS (6500 LB CAPACITY)
A89: 161 | B89: 7000 LB RECESSED JACK (FLOOR BACK)
A90: 162 | B90: DOUBLE CYLINDER FOR GN/FW (STANDARD TA5 AND +)
A91: 170 | B91: APPEARANCE KIT
...
